BEGIN:VCALENDAR
METHOD:REQUEST
PRODID:-//events.orgNONSGML ical.net 4.0//EN
VERSION:2.0
BEGIN:VEVENT
DTEND;VALUE=DATE:20260807
DTSTAMP:20260424T092617Z
DTSTART;VALUE=DATE:20260807
LOCATION:Punch Line Philly\, Philadelphia
ORGANIZER;CN=:mailto:events@events.org
SEQUENCE:0
SUMMARY:Marcus D. Wiley
UID:ec9aaf22-5604-4550-b48c-1f8b365958bf
URL:https://events.org/e/Marcus-D-Wiley/HNCJQKX9
BEGIN:VALARM
ACTION:DISPLAY
SUMMARY:Reminder
TRIGGER:-P1D
END:VALARM
END:VEVENT
END:VCALENDAR
