BEGIN:VCALENDAR
METHOD:REQUEST
PRODID:-//events.orgNONSGML ical.net 4.0//EN
VERSION:2.0
BEGIN:VEVENT
DTEND;VALUE=DATE:20260626
DTSTAMP:20260421T095909Z
DTSTART;VALUE=DATE:20260626
LOCATION:Mortgage Matchup Center\, Phoenix
ORGANIZER;CN=:mailto:events@events.org
SEQUENCE:0
SUMMARY:Nate Bargatze: Big Dumb Eyes World Tour
UID:b87cb06b-435e-44cb-abb3-67185594388e
URL:https://events.org/e/Nate-Bargatze-Big-Dumb-Eyes-World-Tour/VQYXRIVO
BEGIN:VALARM
ACTION:DISPLAY
SUMMARY:Reminder
TRIGGER:-P1D
END:VALARM
END:VEVENT
END:VCALENDAR
