BEGIN:VCALENDAR
METHOD:REQUEST
PRODID:-//events.orgNONSGML ical.net 4.0//EN
VERSION:2.0
BEGIN:VEVENT
DTEND;VALUE=DATE:20260507
DTSTAMP:20260419T142437Z
DTSTART;VALUE=DATE:20260507
LOCATION:Teragram Ballroom\, Los Angeles
ORGANIZER;CN=:mailto:events@events.org
SEQUENCE:0
SUMMARY:Grace Ives
UID:9ad7825c-1e78-4825-a91f-e2d7b6d1c317
URL:https://events.org/e/Grace-Ives/82VLFNPD
BEGIN:VALARM
ACTION:DISPLAY
SUMMARY:Reminder
TRIGGER:-P1D
END:VALARM
END:VEVENT
END:VCALENDAR
