BEGIN:VCALENDAR
METHOD:REQUEST
PRODID:-//events.orgNONSGML ical.net 4.0//EN
VERSION:2.0
BEGIN:VEVENT
DTEND;VALUE=DATE:20260603
DTSTAMP:20260421T094953Z
DTSTART;VALUE=DATE:20260603
LOCATION:Meow Wolf Denver\, Denver
ORGANIZER;CN=:mailto:events@events.org
SEQUENCE:0
SUMMARY:Leanna Firestone
UID:1cf6dda8-104f-404c-9cc6-64af190c1f8c
URL:https://events.org/e/Leanna-Firestone/DIRCIQYH
BEGIN:VALARM
ACTION:DISPLAY
SUMMARY:Reminder
TRIGGER:-P1D
END:VALARM
END:VEVENT
END:VCALENDAR
