BEGIN:VCALENDAR
METHOD:REQUEST
PRODID:-//events.orgNONSGML ical.net 4.0//EN
VERSION:2.0
BEGIN:VEVENT
DTEND;VALUE=DATE:20260427
DTSTAMP:20260424T080751Z
DTSTART;VALUE=DATE:20260427
LOCATION:Blue Note Jazz Club\, New York
ORGANIZER;CN=:mailto:events@events.org
SEQUENCE:0
SUMMARY:Dizzy Gillespie All-Stars
UID:591826a4-a633-458a-8f90-0c9f7aaaac7b
URL:https://events.org/e/Dizzy-Gillespie-All-Stars/NYX9UUWN
BEGIN:VALARM
ACTION:DISPLAY
SUMMARY:Reminder
TRIGGER:-P1D
END:VALARM
END:VEVENT
END:VCALENDAR
