BEGIN:VCALENDAR
METHOD:REQUEST
PRODID:-//events.orgNONSGML ical.net 4.0//EN
VERSION:2.0
BEGIN:VEVENT
DTEND;VALUE=DATE:20260515
DTSTAMP:20260421T082458Z
DTSTART;VALUE=DATE:20260515
LOCATION:Academy LA\, Los Angeles
ORGANIZER;CN=:mailto:events@events.org
SEQUENCE:0
SUMMARY:Lost Kings
UID:55dc3b0a-9e88-499e-bb3e-befd1f1fb847
URL:https://events.org/e/Lost-Kings/HGLLA9EV
BEGIN:VALARM
ACTION:DISPLAY
SUMMARY:Reminder
TRIGGER:-P1D
END:VALARM
END:VEVENT
END:VCALENDAR
