BEGIN:VCALENDAR
METHOD:REQUEST
PRODID:-//events.orgNONSGML ical.net 4.0//EN
VERSION:2.0
BEGIN:VEVENT
DTEND;VALUE=DATE:20260425
DTSTAMP:20260422T091150Z
DTSTART;VALUE=DATE:20260425
LOCATION:Astor Place Theatre\, New York
ORGANIZER;CN=:mailto:events@events.org
SEQUENCE:0
SUMMARY:Burnout Paradise
UID:d212eeb0-f230-471d-b0cf-4f608932249a
URL:https://events.org/e/Burnout-Paradise/9GNVXDYY
BEGIN:VALARM
ACTION:DISPLAY
SUMMARY:Reminder
TRIGGER:-P1D
END:VALARM
END:VEVENT
END:VCALENDAR
