BEGIN:VCALENDAR
METHOD:REQUEST
PRODID:-//events.orgNONSGML ical.net 4.0//EN
VERSION:2.0
BEGIN:VEVENT
DTEND;VALUE=DATE:20260520
DTSTAMP:20260422T091936Z
DTSTART;VALUE=DATE:20260520
LOCATION:Hollywood Pantages Theatre\, Los Angeles
ORGANIZER;CN=:mailto:events@events.org
SEQUENCE:0
SUMMARY:The Sound of Music (Touring)
UID:919314bf-9851-4c84-93b9-416e6caa194e
URL:https://events.org/e/The-Sound-of-Music-Touring/A5VXC3E3
BEGIN:VALARM
ACTION:DISPLAY
SUMMARY:Reminder
TRIGGER:-P1D
END:VALARM
END:VEVENT
END:VCALENDAR
