BEGIN:VCALENDAR
METHOD:REQUEST
PRODID:-//events.orgNONSGML ical.net 4.0//EN
VERSION:2.0
BEGIN:VEVENT
DTEND;VALUE=DATE:20260607
DTSTAMP:20260422T090446Z
DTSTART;VALUE=DATE:20260607
LOCATION:Humphreys Backstage Live\, San Diego
ORGANIZER;CN=:mailto:events@events.org
SEQUENCE:0
SUMMARY:Smooth Operator _ Tribute to Sade
UID:4a85b85c-ee95-4906-bf51-37fe4524832c
URL:https://events.org/e/Smooth-Operator-Tribute-to-Sade/OSY7AXN9
BEGIN:VALARM
ACTION:DISPLAY
SUMMARY:Reminder
TRIGGER:-P1D
END:VALARM
END:VEVENT
END:VCALENDAR
