BEGIN:VCALENDAR
METHOD:REQUEST
PRODID:-//events.orgNONSGML ical.net 4.0//EN
VERSION:2.0
BEGIN:VEVENT
DTEND;VALUE=DATE:20260626
DTSTAMP:20260421T114809Z
DTSTART;VALUE=DATE:20260626
LOCATION:Valley Bar\, Phoenix
ORGANIZER;CN=:mailto:events@events.org
SEQUENCE:0
SUMMARY:FRIDAY TAROT READINGS w/KEANNA
UID:25ec4708-72fc-4971-8ad2-f2595fecc168
URL:https://events.org/e/FRIDAY-TAROT-READINGS-wKEANNA/CA68QKXV
BEGIN:VALARM
ACTION:DISPLAY
SUMMARY:Reminder
TRIGGER:-P1D
END:VALARM
END:VEVENT
END:VCALENDAR
