BEGIN:VCALENDAR
METHOD:REQUEST
PRODID:-//events.orgNONSGML ical.net 4.0//EN
VERSION:2.0
BEGIN:VEVENT
DTEND;VALUE=DATE:20260527
DTSTAMP:20260419T142315Z
DTSTART;VALUE=DATE:20260527
LOCATION:Clock-Out Lounge\, Seattle
ORGANIZER;CN=:mailto:events@events.org
SEQUENCE:0
SUMMARY:Clock-Out Lounge Presents: Bob Log III with guests
UID:f03377d5-2034-4f63-957d-d37db8807d78
URL:https://events.org/e/Clock-Out-Lounge-Presents-Bob-Log-III-with-guests
 /DWLRMTES
BEGIN:VALARM
ACTION:DISPLAY
SUMMARY:Reminder
TRIGGER:-P1D
END:VALARM
END:VEVENT
END:VCALENDAR
