BEGIN:VCALENDAR
METHOD:REQUEST
PRODID:-//events.orgNONSGML ical.net 4.0//EN
VERSION:2.0
BEGIN:VEVENT
DTEND;VALUE=DATE:20260614
DTSTAMP:20260419T142603Z
DTSTART;VALUE=DATE:20260614
LOCATION:Hobby Center\, Houston
ORGANIZER;CN=:mailto:events@events.org
SEQUENCE:0
SUMMARY:Clue (Touring)
UID:e745799b-34f3-4451-b30f-14a8f2539684
URL:https://events.org/e/Clue-Touring/5X99TH8N
BEGIN:VALARM
ACTION:DISPLAY
SUMMARY:Reminder
TRIGGER:-P1D
END:VALARM
END:VEVENT
END:VCALENDAR
