BEGIN:VCALENDAR
METHOD:REQUEST
PRODID:-//events.orgNONSGML ical.net 4.0//EN
VERSION:2.0
BEGIN:VEVENT
DTEND;VALUE=DATE:20260609
DTSTAMP:20260421T104310Z
DTSTART;VALUE=DATE:20260609
LOCATION:Summit Music Hall\, Denver
ORGANIZER;CN=:mailto:events@events.org
SEQUENCE:0
SUMMARY:The Cab - The Back From The Dead Tour
UID:4a16651f-584b-45af-b26b-f289f23a5605
URL:https://events.org/e/The-Cab---The-Back-From-The-Dead-Tour/2KPQRX3D
BEGIN:VALARM
ACTION:DISPLAY
SUMMARY:Reminder
TRIGGER:-P1D
END:VALARM
END:VEVENT
END:VCALENDAR
