BEGIN:VCALENDAR
METHOD:REQUEST
PRODID:-//events.orgNONSGML ical.net 4.0//EN
VERSION:2.0
BEGIN:VEVENT
DTEND;VALUE=DATE:20260627
DTSTAMP:20260421T104031Z
DTSTART;VALUE=DATE:20260627
LOCATION:TD Pavilion at Highmark Mann\, Philadelphia
ORGANIZER;CN=:mailto:events@events.org
SEQUENCE:0
SUMMARY:Jack Johnson: SURFILMUSIC Tour 2026
UID:ab0d38a5-da63-4a96-ae2e-419e7a527150
URL:https://events.org/e/Jack-Johnson-SURFILMUSIC-Tour-2026/XS8L2AWX
BEGIN:VALARM
ACTION:DISPLAY
SUMMARY:Reminder
TRIGGER:-P1D
END:VALARM
END:VEVENT
END:VCALENDAR
