BEGIN:VCALENDAR
METHOD:REQUEST
PRODID:-//events.orgNONSGML ical.net 4.0//EN
VERSION:2.0
BEGIN:VEVENT
DTEND;VALUE=DATE:20260531
DTSTAMP:20260422T091649Z
DTSTART;VALUE=DATE:20260531
LOCATION:Denver Pavilions\, Denver
ORGANIZER;CN=:mailto:events@events.org
SEQUENCE:0
SUMMARY:Bodies - The Science Within - Denver
UID:f404f862-8529-43f8-b10d-b964bc2c0bde
URL:https://events.org/e/Bodies---The-Science-Within---Denver/2573KDFT
BEGIN:VALARM
ACTION:DISPLAY
SUMMARY:Reminder
TRIGGER:-P1D
END:VALARM
END:VEVENT
END:VCALENDAR
