BEGIN:VCALENDAR
METHOD:REQUEST
PRODID:-//events.orgNONSGML ical.net 4.0//EN
VERSION:2.0
BEGIN:VEVENT
DTEND;VALUE=DATE:20260603
DTSTAMP:20260421T082311Z
DTSTART;VALUE=DATE:20260603
LOCATION:The Rebel Lounge\, Phoenix
ORGANIZER;CN=:mailto:events@events.org
SEQUENCE:0
SUMMARY:Racing Mount Pleasant w/ Isobel
UID:464a585c-a21c-4f17-932a-65462954c38f
URL:https://events.org/e/Racing-Mount-Pleasant-w-Isobel/8JJTXNDQ
BEGIN:VALARM
ACTION:DISPLAY
SUMMARY:Reminder
TRIGGER:-P1D
END:VALARM
END:VEVENT
END:VCALENDAR
