BEGIN:VCALENDAR
METHOD:REQUEST
PRODID:-//events.orgNONSGML ical.net 4.0//EN
VERSION:2.0
BEGIN:VEVENT
DTEND;VALUE=DATE:20260502
DTSTAMP:20260423T133545Z
DTSTART;VALUE=DATE:20260502
LOCATION:The Peppermint Club\, Los Angeles
ORGANIZER;CN=:mailto:events@events.org
SEQUENCE:0
SUMMARY:Red Lotus
UID:707a031f-2555-4035-81dd-872c5eee131c
URL:https://events.org/e/Red-Lotus/4L6B5QGV
BEGIN:VALARM
ACTION:DISPLAY
SUMMARY:Reminder
TRIGGER:-P1D
END:VALARM
END:VEVENT
END:VCALENDAR
