BEGIN:VCALENDAR
METHOD:REQUEST
PRODID:-//events.orgNONSGML ical.net 4.0//EN
VERSION:2.0
BEGIN:VEVENT
DTEND;VALUE=DATE:20260717
DTSTAMP:20260421T082400Z
DTSTART;VALUE=DATE:20260717
LOCATION:Hobby Center\, Houston
ORGANIZER;CN=:mailto:events@events.org
SEQUENCE:0
SUMMARY:Moulin Rouge! The Musical (Touring)
UID:865bfe50-9a6e-40c6-9363-8d067334ed67
URL:https://events.org/e/Moulin-Rouge-The-Musical-Touring/3OUIMUWS
BEGIN:VALARM
ACTION:DISPLAY
SUMMARY:Reminder
TRIGGER:-P1D
END:VALARM
END:VEVENT
END:VCALENDAR
