BEGIN:VCALENDAR
METHOD:REQUEST
PRODID:-//events.orgNONSGML ical.net 4.0//EN
VERSION:2.0
BEGIN:VEVENT
DTEND;VALUE=DATE:20260425
DTSTAMP:20260421T094517Z
DTSTART;VALUE=DATE:20260425
LOCATION:Carol's Pub\, Chicago
ORGANIZER;CN=:mailto:events@events.org
SEQUENCE:0
SUMMARY:Trey Knepp
UID:c9a925ad-f40f-40bb-ba8e-3b62d26df9f1
URL:https://events.org/e/Trey-Knepp/QBODHGKA
BEGIN:VALARM
ACTION:DISPLAY
SUMMARY:Reminder
TRIGGER:-P1D
END:VALARM
END:VEVENT
END:VCALENDAR
