BEGIN:VCALENDAR
METHOD:REQUEST
PRODID:-//events.orgNONSGML ical.net 4.0//EN
VERSION:2.0
BEGIN:VEVENT
DTEND;VALUE=DATE:20260606
DTSTAMP:20260421T095719Z
DTSTART;VALUE=DATE:20260606
LOCATION:Bill Graham Civic Auditorium\, San Francisco
ORGANIZER;CN=:mailto:events@events.org
SEQUENCE:0
SUMMARY:Louis Tomlinson - How Did We Get Here? World Tour
UID:9d18b946-f358-4bb9-8a52-5ca775396999
URL:https://events.org/e/Louis-Tomlinson---How-Did-We-Get-Here-World-Tour/
 FAKXMQ4C
BEGIN:VALARM
ACTION:DISPLAY
SUMMARY:Reminder
TRIGGER:-P1D
END:VALARM
END:VEVENT
END:VCALENDAR
