BEGIN:VCALENDAR
METHOD:REQUEST
PRODID:-//events.orgNONSGML ical.net 4.0//EN
VERSION:2.0
BEGIN:VEVENT
DTEND;VALUE=DATE:20260620
DTSTAMP:20260421T103900Z
DTSTART;VALUE=DATE:20260620
LOCATION:Ophelia's Electric Soapbox\, Denver
ORGANIZER;CN=:mailto:events@events.org
SEQUENCE:0
SUMMARY:HeartByrne
UID:6d7a0ff4-72d4-4f4d-a4af-3e59cd6d0372
URL:https://events.org/e/HeartByrne/CONFJHFQ
BEGIN:VALARM
ACTION:DISPLAY
SUMMARY:Reminder
TRIGGER:-P1D
END:VALARM
END:VEVENT
END:VCALENDAR
