BEGIN:VCALENDAR
METHOD:REQUEST
PRODID:-//events.orgNONSGML ical.net 4.0//EN
VERSION:2.0
BEGIN:VEVENT
DTEND;VALUE=DATE:20260829
DTSTAMP:20260424T092046Z
DTSTART;VALUE=DATE:20260829
LOCATION:Thunderbird Lounge\, Phoenix
ORGANIZER;CN=:mailto:events@events.org
SEQUENCE:0
SUMMARY:Transmission: an 80's Dark Wave Night
UID:fc926524-dd34-47ef-ab5a-e3caf26874a8
URL:https://events.org/e/Transmission-an-80s-Dark-Wave-Night/JLWH2NCS
BEGIN:VALARM
ACTION:DISPLAY
SUMMARY:Reminder
TRIGGER:-P1D
END:VALARM
END:VEVENT
END:VCALENDAR
