BEGIN:VCALENDAR
METHOD:REQUEST
PRODID:-//events.orgNONSGML ical.net 4.0//EN
VERSION:2.0
BEGIN:VEVENT
DTEND;VALUE=DATE:20260606
DTSTAMP:20260422T090238Z
DTSTART;VALUE=DATE:20260606
LOCATION:Hobby Center\, Houston
ORGANIZER;CN=:mailto:events@events.org
SEQUENCE:0
SUMMARY:Jeff Dunham Artificial Intelligence
UID:17176ca1-38fd-477d-aea6-7f031f2358e3
URL:https://events.org/e/Jeff-Dunham-Artificial-Intelligence/FBYPJRDV
BEGIN:VALARM
ACTION:DISPLAY
SUMMARY:Reminder
TRIGGER:-P1D
END:VALARM
END:VEVENT
END:VCALENDAR
