BEGIN:VCALENDAR
METHOD:REQUEST
PRODID:-//events.orgNONSGML ical.net 4.0//EN
VERSION:2.0
BEGIN:VEVENT
DTEND;VALUE=DATE:20260507
DTSTAMP:20260421T094954Z
DTSTART;VALUE=DATE:20260507
LOCATION:Orpheum Theatre\, Los Angeles
ORGANIZER;CN=:mailto:events@events.org
SEQUENCE:0
SUMMARY:Netflix Is A Joke Presents: Mo Amer
UID:e535caea-d01e-4861-9259-e51a5520facf
URL:https://events.org/e/Netflix-Is-A-Joke-Presents-Mo-Amer/P8WIVUMM
BEGIN:VALARM
ACTION:DISPLAY
SUMMARY:Reminder
TRIGGER:-P1D
END:VALARM
END:VEVENT
END:VCALENDAR
