BEGIN:VCALENDAR
METHOD:REQUEST
PRODID:-//events.orgNONSGML ical.net 4.0//EN
VERSION:2.0
BEGIN:VEVENT
DTEND;VALUE=DATE:20260424
DTSTAMP:20260422T090231Z
DTSTART;VALUE=DATE:20260424
LOCATION:Longacre Theatre\, New York
ORGANIZER;CN=:mailto:events@events.org
SEQUENCE:0
SUMMARY:Two Strangers (Carry a Cake Across New York)
UID:f2d247c5-3f40-48b7-bfb8-4e7db03306d7
URL:https://events.org/e/Two-Strangers-Carry-a-Cake-Across-New-York/RHHC6K
 9V
BEGIN:VALARM
ACTION:DISPLAY
SUMMARY:Reminder
TRIGGER:-P1D
END:VALARM
END:VEVENT
END:VCALENDAR
