BEGIN:VCALENDAR
METHOD:REQUEST
PRODID:-//events.orgNONSGML ical.net 4.0//EN
VERSION:2.0
BEGIN:VEVENT
DTEND;VALUE=DATE:20260610
DTSTAMP:20260419T142314Z
DTSTART;VALUE=DATE:20260610
LOCATION:The Masonic\, San Francisco
ORGANIZER;CN=:mailto:events@events.org
SEQUENCE:0
SUMMARY:BELLE & SEBASTIAN: TIGERMILK + CLASSIC SONGS
UID:8069aa06-2be5-46c2-add4-53cd93cbb205
URL:https://events.org/e/BELLE-SEBASTIAN-TIGERMILK-CLASSIC-SONGS/Q4FMQT89
BEGIN:VALARM
ACTION:DISPLAY
SUMMARY:Reminder
TRIGGER:-P1D
END:VALARM
END:VEVENT
END:VCALENDAR
