BEGIN:VCALENDAR
METHOD:REQUEST
PRODID:-//events.orgNONSGML ical.net 4.0//EN
VERSION:2.0
BEGIN:VEVENT
DTEND;VALUE=DATE:20260529
DTSTAMP:20260419T142638Z
DTSTART;VALUE=DATE:20260529
LOCATION:Lakewood Amphitheatre\, Atlanta
ORGANIZER;CN=:mailto:events@events.org
SEQUENCE:0
SUMMARY:MGK: Lost Americana Tour
UID:ad918c60-a60f-449d-b98f-4afd8b514f0b
URL:https://events.org/e/MGK-Lost-Americana-Tour/NAX6SOGA
BEGIN:VALARM
ACTION:DISPLAY
SUMMARY:Reminder
TRIGGER:-P1D
END:VALARM
END:VEVENT
END:VCALENDAR
