BEGIN:VCALENDAR
METHOD:REQUEST
PRODID:-//events.orgNONSGML ical.net 4.0//EN
VERSION:2.0
BEGIN:VEVENT
DTEND;VALUE=DATE:20260616
DTSTAMP:20260419T165522Z
DTSTART;VALUE=DATE:20260616
LOCATION:Music Box\, San Diego
ORGANIZER;CN=:mailto:events@events.org
SEQUENCE:0
SUMMARY:Haute & Freddy’s Big Disgrace Tour
UID:d96fd62b-8d36-45d7-996e-2c695ce75713
URL:https://events.org/e/Haute-Freddys-Big-Disgrace-Tour/FHCE6QP6
BEGIN:VALARM
ACTION:DISPLAY
SUMMARY:Reminder
TRIGGER:-P1D
END:VALARM
END:VEVENT
END:VCALENDAR
