BEGIN:VCALENDAR
METHOD:REQUEST
PRODID:-//events.orgNONSGML ical.net 4.0//EN
VERSION:2.0
BEGIN:VEVENT
DTEND;VALUE=DATE:20260311
DTSTAMP:20260421T082312Z
DTSTART;VALUE=DATE:20260311
LOCATION:Bimbo's 365 Club\, San Francisco
ORGANIZER;CN=:mailto:events@events.org
SEQUENCE:0
SUMMARY:dodie with special guest Andy Louis
UID:c7848df1-aca7-47f7-8761-cf1d051a80a7
URL:https://events.org/e/dodie-with-special-guest-Andy-Louis/R3S82T24
BEGIN:VALARM
ACTION:DISPLAY
SUMMARY:Reminder
TRIGGER:-P1D
END:VALARM
END:VEVENT
END:VCALENDAR
