BEGIN:VCALENDAR
METHOD:REQUEST
PRODID:-//events.orgNONSGML ical.net 4.0//EN
VERSION:2.0
BEGIN:VEVENT
DTEND;VALUE=DATE:20260613
DTSTAMP:20260421T114959Z
DTSTART;VALUE=DATE:20260613
LOCATION:Ophelia's Electric Soapbox\, Denver
ORGANIZER;CN=:mailto:events@events.org
SEQUENCE:0
SUMMARY:Mikaela Davis
UID:2d38a86e-2f09-41cf-824d-39ccf4b01047
URL:https://events.org/e/Mikaela-Davis/25UOUQE3
BEGIN:VALARM
ACTION:DISPLAY
SUMMARY:Reminder
TRIGGER:-P1D
END:VALARM
END:VEVENT
END:VCALENDAR
