BEGIN:VCALENDAR
METHOD:REQUEST
PRODID:-//events.orgNONSGML ical.net 4.0//EN
VERSION:2.0
BEGIN:VEVENT
DTEND;VALUE=DATE:20260723
DTSTAMP:20260422T100126Z
DTSTART;VALUE=DATE:20260723
LOCATION:Emerson Colonial Theatre\, Boston
ORGANIZER;CN=:mailto:events@events.org
SEQUENCE:0
SUMMARY:John C. Reilly is Mister Romantic
UID:5cfed3d5-c9a5-436b-9f30-cdc112f40540
URL:https://events.org/e/John-C-Reilly-is-Mister-Romantic/QHX7SHPF
BEGIN:VALARM
ACTION:DISPLAY
SUMMARY:Reminder
TRIGGER:-P1D
END:VALARM
END:VEVENT
END:VCALENDAR
