BEGIN:VCALENDAR
METHOD:REQUEST
PRODID:-//events.orgNONSGML ical.net 4.0//EN
VERSION:2.0
BEGIN:VEVENT
DTEND;VALUE=DATE:20260521
DTSTAMP:20260424T092037Z
DTSTART;VALUE=DATE:20260521
LOCATION:Chop Suey\, Seattle
ORGANIZER;CN=:mailto:events@events.org
SEQUENCE:0
SUMMARY:summercoat\, Pony Boy\, Digital Darlings
UID:fba2140e-d640-4a9b-8bf3-49f11de3617b
URL:https://events.org/e/summercoat-Pony-Boy-Digital-Darlings/TWFCKFNI
BEGIN:VALARM
ACTION:DISPLAY
SUMMARY:Reminder
TRIGGER:-P1D
END:VALARM
END:VEVENT
END:VCALENDAR
