BEGIN:VCALENDAR
METHOD:REQUEST
PRODID:-//events.orgNONSGML ical.net 4.0//EN
VERSION:2.0
BEGIN:VEVENT
DTEND;VALUE=DATE:20260529
DTSTAMP:20260419T170023Z
DTSTART;VALUE=DATE:20260529
LOCATION:The Masquerade - Hell\, Atlanta
ORGANIZER;CN=:mailto:events@events.org
SEQUENCE:0
SUMMARY:In The End - The Linkin Park Experience
UID:39e614cc-ac2f-440b-a820-95b461ea35f7
URL:https://events.org/e/In-The-End---The-Linkin-Park-Experience/YVF36HAJ
BEGIN:VALARM
ACTION:DISPLAY
SUMMARY:Reminder
TRIGGER:-P1D
END:VALARM
END:VEVENT
END:VCALENDAR
