BEGIN:VCALENDAR
METHOD:REQUEST
PRODID:-//events.orgNONSGML ical.net 4.0//EN
VERSION:2.0
BEGIN:VEVENT
DTEND;VALUE=DATE:20260516
DTSTAMP:20260422T083837Z
DTSTART;VALUE=DATE:20260516
LOCATION:Nova SD\, San Diego
ORGANIZER;CN=:mailto:events@events.org
SEQUENCE:0
SUMMARY:Time Machine: 90s - 2000s Throwback Dance Party
UID:7c737bff-2ea3-46bf-ac73-4b70355a9b11
URL:https://events.org/e/Time-Machine-90s---2000s-Throwback-Dance-Party/BN
 MONF7Y
BEGIN:VALARM
ACTION:DISPLAY
SUMMARY:Reminder
TRIGGER:-P1D
END:VALARM
END:VEVENT
END:VCALENDAR
