BEGIN:VCALENDAR
METHOD:REQUEST
PRODID:-//events.orgNONSGML ical.net 4.0//EN
VERSION:2.0
BEGIN:VEVENT
DTEND;VALUE=DATE:20261008
DTSTAMP:20260421T103640Z
DTSTART;VALUE=DATE:20261008
LOCATION:Pitbull Stadium\, Miami
ORGANIZER;CN=:mailto:events@events.org
SEQUENCE:0
SUMMARY:Florida International Panthers Football vs. Louisiana Tech Bulldog
 s Football
UID:172029e9-757c-496b-8c6d-e89aa3ac641c
URL:https://events.org/e/Florida-International-Panthers-Football-vs-Lo/HQL
 ERJN6
BEGIN:VALARM
ACTION:DISPLAY
SUMMARY:Reminder
TRIGGER:-P1D
END:VALARM
END:VEVENT
END:VCALENDAR
