BEGIN:VCALENDAR
METHOD:REQUEST
PRODID:-//events.orgNONSGML ical.net 4.0//EN
VERSION:2.0
BEGIN:VEVENT
DTEND;VALUE=DATE:20260424
DTSTAMP:20260422T090715Z
DTSTART;VALUE=DATE:20260424
LOCATION:Richard Rodgers Theatre\, New York
ORGANIZER;CN=:mailto:events@events.org
SEQUENCE:0
SUMMARY:Hamilton (NY)
UID:bb128489-1869-47f8-97f7-a98b38951aef
URL:https://events.org/e/Hamilton-NY/AVX3L6M5
BEGIN:VALARM
ACTION:DISPLAY
SUMMARY:Reminder
TRIGGER:-P1D
END:VALARM
END:VEVENT
END:VCALENDAR
