BEGIN:VCALENDAR
METHOD:REQUEST
PRODID:-//events.orgNONSGML ical.net 4.0//EN
VERSION:2.0
BEGIN:VEVENT
DTEND;VALUE=DATE:20260507
DTSTAMP:20260421T131617Z
DTSTART;VALUE=DATE:20260507
LOCATION:Laugh Factory\, Los Angeles
ORGANIZER;CN=:mailto:events@events.org
SEQUENCE:0
SUMMARY:Netflix Is A Joke Presents: Lavell Crawford
UID:20827033-b145-4523-a822-e2a852617041
URL:https://events.org/e/Netflix-Is-A-Joke-Presents-Lavell-Crawford/2BA29D
 CA
BEGIN:VALARM
ACTION:DISPLAY
SUMMARY:Reminder
TRIGGER:-P1D
END:VALARM
END:VEVENT
END:VCALENDAR
