BEGIN:VCALENDAR
METHOD:REQUEST
PRODID:-//events.orgNONSGML ical.net 4.0//EN
VERSION:2.0
BEGIN:VEVENT
DTEND;VALUE=DATE:20260808
DTSTAMP:20260424T092055Z
DTSTART;VALUE=DATE:20260808
LOCATION:The Shelter\, Detroit
ORGANIZER;CN=:mailto:events@events.org
SEQUENCE:0
SUMMARY:The Word Alive - The Deceiver & Dark Matter Anniversary Tour
UID:df4bb0c8-ff1c-4e96-a00a-77e7cbc20776
URL:https://events.org/e/The-Word-Alive---The-Deceiver-Dark-Matter-Ann/4VJ
 GEPTP
BEGIN:VALARM
ACTION:DISPLAY
SUMMARY:Reminder
TRIGGER:-P1D
END:VALARM
END:VEVENT
END:VCALENDAR
