BEGIN:VCALENDAR
METHOD:REQUEST
PRODID:-//events.orgNONSGML ical.net 4.0//EN
VERSION:2.0
BEGIN:VEVENT
DTEND;VALUE=DATE:20260507
DTSTAMP:20260423T093841Z
DTSTART;VALUE=DATE:20260507
LOCATION:Nikki Lopez Philly\, Philadelphia
ORGANIZER;CN=:mailto:events@events.org
SEQUENCE:0
SUMMARY:EMF\, Ecce Shnak
UID:e52998e9-22ca-4fc5-9c93-5d706336db65
URL:https://events.org/e/EMF-Ecce-Shnak/V82E7AC2
BEGIN:VALARM
ACTION:DISPLAY
SUMMARY:Reminder
TRIGGER:-P1D
END:VALARM
END:VEVENT
END:VCALENDAR
