BEGIN:VCALENDAR
METHOD:REQUEST
PRODID:-//events.orgNONSGML ical.net 4.0//EN
VERSION:2.0
BEGIN:VEVENT
DTEND;VALUE=DATE:20260418
DTSTAMP:20260419T130550Z
DTSTART;VALUE=DATE:20260418
LOCATION:Hill Country Live\, New York
ORGANIZER;CN=:mailto:events@events.org
SEQUENCE:0
SUMMARY:Brother Rabbit Reunion Show
UID:58226910-771b-4fd5-97a4-893995b8f02d
URL:https://events.org/e/Brother-Rabbit-Reunion-Show/CDI5CFGU
BEGIN:VALARM
ACTION:DISPLAY
SUMMARY:Reminder
TRIGGER:-P1D
END:VALARM
END:VEVENT
END:VCALENDAR
