BEGIN:VCALENDAR
METHOD:REQUEST
PRODID:-//events.orgNONSGML ical.net 4.0//EN
VERSION:2.0
BEGIN:VEVENT
DTEND;VALUE=DATE:20260506
DTSTAMP:20260419T154436Z
DTSTART;VALUE=DATE:20260506
LOCATION:The Peppermint Club\, Los Angeles
ORGANIZER;CN=:mailto:events@events.org
SEQUENCE:0
SUMMARY:Netflix Is A Joke Presents: Sam Jay
UID:557541ac-389c-45e4-a00c-dd53b93fb24b
URL:https://events.org/e/Netflix-Is-A-Joke-Presents-Sam-Jay/JHDGWR3L
BEGIN:VALARM
ACTION:DISPLAY
SUMMARY:Reminder
TRIGGER:-P1D
END:VALARM
END:VEVENT
END:VCALENDAR
