BEGIN:VCALENDAR
METHOD:REQUEST
PRODID:-//events.orgNONSGML ical.net 4.0//EN
VERSION:2.0
BEGIN:VEVENT
DTEND;VALUE=DATE:20260710
DTSTAMP:20260425T105106Z
DTSTART;VALUE=DATE:20260710
LOCATION:Fenway Park\, Boston
ORGANIZER;CN=:mailto:events@events.org
SEQUENCE:0
SUMMARY:Noah Kahan: The Great Divide Tour
UID:612bd094-00b6-4c8a-8acb-496cbcc93020
URL:https://events.org/e/Noah-Kahan-The-Great-Divide-Tour/OAD5EQLE
BEGIN:VALARM
ACTION:DISPLAY
SUMMARY:Reminder
TRIGGER:-P1D
END:VALARM
END:VEVENT
END:VCALENDAR
