BEGIN:VCALENDAR
METHOD:REQUEST
PRODID:-//events.orgNONSGML ical.net 4.0//EN
VERSION:2.0
BEGIN:VEVENT
DTEND;VALUE=DATE:20260523
DTSTAMP:20260424T092220Z
DTSTART;VALUE=DATE:20260523
LOCATION:Walter WhereHouse\, Phoenix
ORGANIZER;CN=:mailto:events@events.org
SEQUENCE:0
SUMMARY:Ranger Trucco (21+)
UID:c2bba375-9898-4954-aaf1-3f8617dbbf41
URL:https://events.org/e/Ranger-Trucco-21/WD3BXWS8
BEGIN:VALARM
ACTION:DISPLAY
SUMMARY:Reminder
TRIGGER:-P1D
END:VALARM
END:VEVENT
END:VCALENDAR
