BEGIN:VCALENDAR
METHOD:REQUEST
PRODID:-//events.orgNONSGML ical.net 4.0//EN
VERSION:2.0
BEGIN:VEVENT
DTEND;VALUE=DATE:20260601
DTSTAMP:20260421T103936Z
DTSTART;VALUE=DATE:20260601
LOCATION:Terminal West\, Atlanta
ORGANIZER;CN=:mailto:events@events.org
SEQUENCE:0
SUMMARY:Em Beihold w/ Janani K. Jha
UID:663a5a7b-ea34-4063-9a88-5fedb7daf55d
URL:https://events.org/e/Em-Beihold-w-Janani-K-Jha/TUXHJ482
BEGIN:VALARM
ACTION:DISPLAY
SUMMARY:Reminder
TRIGGER:-P1D
END:VALARM
END:VEVENT
END:VCALENDAR
