BEGIN:VCALENDAR
METHOD:REQUEST
PRODID:-//events.orgNONSGML ical.net 4.0//EN
VERSION:2.0
BEGIN:VEVENT
DTEND;VALUE=DATE:20260620
DTSTAMP:20260421T143107Z
DTSTART;VALUE=DATE:20260620
LOCATION:Music Box - San Diego\, San Diego
ORGANIZER;CN=:mailto:events@events.org
SEQUENCE:0
SUMMARY:The Lemon Twigs
UID:d6d2d43a-6675-41cf-8de2-dc854acb5bd7
URL:https://events.org/e/The-Lemon-Twigs/IOWH87DV
BEGIN:VALARM
ACTION:DISPLAY
SUMMARY:Reminder
TRIGGER:-P1D
END:VALARM
END:VEVENT
END:VCALENDAR
