BEGIN:VCALENDAR
METHOD:REQUEST
PRODID:-//events.orgNONSGML ical.net 4.0//EN
VERSION:2.0
BEGIN:VEVENT
DTEND;VALUE=DATE:20260507
DTSTAMP:20260421T103725Z
DTSTART;VALUE=DATE:20260507
LOCATION:Upright Citizens Brigade Theatre\, Los Angeles
ORGANIZER;CN=:mailto:events@events.org
SEQUENCE:0
SUMMARY:Netflix Is A Joke Presents: Doug Loves Movies
UID:fdc9b2a8-f783-474d-afcd-c75c05b62e5e
URL:https://events.org/e/Netflix-Is-A-Joke-Presents-Doug-Loves-Movies/YJ7T
 7G2P
BEGIN:VALARM
ACTION:DISPLAY
SUMMARY:Reminder
TRIGGER:-P1D
END:VALARM
END:VEVENT
END:VCALENDAR
