BEGIN:VCALENDAR
METHOD:REQUEST
PRODID:-//events.orgNONSGML ical.net 4.0//EN
VERSION:2.0
BEGIN:VEVENT
DTEND;VALUE=DATE:20260524
DTSTAMP:20260422T084651Z
DTSTART;VALUE=DATE:20260524
LOCATION:Carol's Pub\, Chicago
ORGANIZER;CN=:mailto:events@events.org
SEQUENCE:0
SUMMARY:Delaplaine
UID:eb3cc2f1-3056-4824-aab3-021d032fe05f
URL:https://events.org/e/Delaplaine/PTEO4BEA
BEGIN:VALARM
ACTION:DISPLAY
SUMMARY:Reminder
TRIGGER:-P1D
END:VALARM
END:VEVENT
END:VCALENDAR
