BEGIN:VCALENDAR
METHOD:REQUEST
PRODID:-//events.orgNONSGML ical.net 4.0//EN
VERSION:2.0
BEGIN:VEVENT
DTEND;VALUE=DATE:20260511
DTSTAMP:20260423T133643Z
DTSTART;VALUE=DATE:20260511
LOCATION:Mission Ballroom\, Denver
ORGANIZER;CN=:mailto:events@events.org
SEQUENCE:0
SUMMARY:Jose Gonzalez
UID:8cc0f90a-d45f-41aa-8221-2b1ca681504d
URL:https://events.org/e/Jose-Gonzalez/GMXQRVYI
BEGIN:VALARM
ACTION:DISPLAY
SUMMARY:Reminder
TRIGGER:-P1D
END:VALARM
END:VEVENT
END:VCALENDAR
