BEGIN:VCALENDAR
METHOD:REQUEST
PRODID:-//events.orgNONSGML ical.net 4.0//EN
VERSION:2.0
BEGIN:VEVENT
DTEND;VALUE=DATE:20260814
DTSTAMP:20260421T094328Z
DTSTART;VALUE=DATE:20260814
LOCATION:Dos Equis Pavilion\, Dallas
ORGANIZER;CN=:mailto:events@events.org
SEQUENCE:0
SUMMARY:Muse - The Wow! Signal Tour
UID:b7ec9959-ba6c-4b30-8241-24d4b8fcc88c
URL:https://events.org/e/Muse---The-Wow-Signal-Tour/R3N6NXTI
BEGIN:VALARM
ACTION:DISPLAY
SUMMARY:Reminder
TRIGGER:-P1D
END:VALARM
END:VEVENT
END:VCALENDAR
