BEGIN:VCALENDAR
METHOD:REQUEST
PRODID:-//events.orgNONSGML ical.net 4.0//EN
VERSION:2.0
BEGIN:VEVENT
DTEND;VALUE=DATE:20260718
DTSTAMP:20260422T090238Z
DTSTART;VALUE=DATE:20260718
LOCATION:Lager House\, Detroit
ORGANIZER;CN=:mailto:events@events.org
SEQUENCE:0
SUMMARY:Emperor X
UID:0699a0b7-41b3-424a-aa62-ca18adca02fb
URL:https://events.org/e/Emperor-X/4TF4GKOQ
BEGIN:VALARM
ACTION:DISPLAY
SUMMARY:Reminder
TRIGGER:-P1D
END:VALARM
END:VEVENT
END:VCALENDAR
